BEGIN:VCALENDAR
VERSION:2.0
PRODID:-//Tukios.com/
BEGIN:VEVENT
UID:0adfb2b4-4f8e-4760-b247-7bbec0534b80@www.carsonstappfuneralhome.com
DTSTAMP:20260421T183809Z
DTSTART:20260425T190000Z
DTEND:20260425T200000Z
SUMMARY:Celebration of Life
DESCRIPTION:
URL:https://www.carsonstappfuneralhome.com/obituaries/lila-berglund
LOCATION:Calvary United Methodist Church 901 Moore Street  Stratford IA 
	50249
GEO:42.2717092;-93.9248585
END:VEVENT
END:VCALENDAR