BEGIN:VCALENDAR
VERSION:2.0
PRODID:-//Tukios.com/
BEGIN:VEVENT
UID:834608a4-b605-4a4b-8220-be8b0a0e016e@www.carsonstappfuneralhome.com
DTSTAMP:20260421T183815Z
DTSTART:20260425T180000Z
DTEND:20260425T190000Z
SUMMARY:Visitation
DESCRIPTION:
URL:https://www.carsonstappfuneralhome.com/obituaries/lila-berglund
LOCATION:Calvary United Methodist Church 901 Moore Street  Stratford IA 
	50249
GEO:42.2717092;-93.9248585
END:VEVENT
END:VCALENDAR